BEGIN:VCALENDAR
VERSION:2.0
PRODID:-//Walter Ghicolescu - ECPv6.1.3//NONSGML v1.0//EN
CALSCALE:GREGORIAN
METHOD:PUBLISH
X-ORIGINAL-URL:https://www.walterghicolescu.ro
X-WR-CALDESC:Events for Walter Ghicolescu
REFRESH-INTERVAL;VALUE=DURATION:PT1H
X-Robots-Tag:noindex
X-PUBLISHED-TTL:PT1H
BEGIN:VTIMEZONE
TZID:Europe/Helsinki
BEGIN:DAYLIGHT
TZOFFSETFROM:+0200
TZOFFSETTO:+0300
TZNAME:EEST
DTSTART:20160327T010000
END:DAYLIGHT
BEGIN:STANDARD
TZOFFSETFROM:+0300
TZOFFSETTO:+0200
TZNAME:EET
DTSTART:20161030T010000
END:STANDARD
END:VTIMEZONE
BEGIN:VEVENT
DTSTART;TZID=Europe/Helsinki:20161216T210000
DTEND;TZID=Europe/Helsinki:20161216T230000
DTSTAMP:20260424T201408
CREATED:20161207T045417Z
LAST-MODIFIED:20161207T045417Z
UID:578-1481922000-1481929200@www.walterghicolescu.ro
SUMMARY:Walter Ghicolescu la Pub KM 0\, 16 decembrie 2016
DESCRIPTION:Walter Ghicolescu la Pub KM 0\, Vineri\, 16 decembrie 2016\, ora 21:00 \nPiata Stefan cel Mare\, nr. 18I\, deasupra farmaciei Catena\, vis-a-vis de Parcul Central\, 610109 Piatra Neamt\, Romania
URL:https://www.walterghicolescu.ro/eveniment/walter-ghicolescu-la-pub-km-0-16-decembrie-2016/
LOCATION:Pub KM 0\, Piata Stefan cel Mare\, nr. 18I\, Piatra Neamt\, 610109\, România
ATTACH;FMTTYPE=image/jpeg:https://www.walterghicolescu.ro/wp-content/uploads/2016/12/AFIS-Walter-Pubkm0-16dec2016.jpg
END:VEVENT
END:VCALENDAR